BEGIN:VCALENDAR
VERSION:2.0
PRODID:-//ASCOLI PICENO - TRIER GESELLSCHAFT e.V. - ECPv6.15.20//NONSGML v1.0//EN
CALSCALE:GREGORIAN
METHOD:PUBLISH
X-ORIGINAL-URL:https://ascoli-piceno-trier.de
X-WR-CALDESC:Veranstaltungen für ASCOLI PICENO - TRIER GESELLSCHAFT e.V.
REFRESH-INTERVAL;VALUE=DURATION:PT1H
X-Robots-Tag:noindex
X-PUBLISHED-TTL:PT1H
BEGIN:VTIMEZONE
TZID:Europe/Berlin
BEGIN:DAYLIGHT
TZOFFSETFROM:+0100
TZOFFSETTO:+0200
TZNAME:CEST
DTSTART:20220327T010000
END:DAYLIGHT
BEGIN:STANDARD
TZOFFSETFROM:+0200
TZOFFSETTO:+0100
TZNAME:CET
DTSTART:20221030T010000
END:STANDARD
BEGIN:DAYLIGHT
TZOFFSETFROM:+0100
TZOFFSETTO:+0200
TZNAME:CEST
DTSTART:20230326T010000
END:DAYLIGHT
BEGIN:STANDARD
TZOFFSETFROM:+0200
TZOFFSETTO:+0100
TZNAME:CET
DTSTART:20231029T010000
END:STANDARD
BEGIN:DAYLIGHT
TZOFFSETFROM:+0100
TZOFFSETTO:+0200
TZNAME:CEST
DTSTART:20240331T010000
END:DAYLIGHT
BEGIN:STANDARD
TZOFFSETFROM:+0200
TZOFFSETTO:+0100
TZNAME:CET
DTSTART:20241027T010000
END:STANDARD
END:VTIMEZONE
BEGIN:VEVENT
DTSTART;TZID=Europe/Berlin:20230423T104500
DTEND;TZID=Europe/Berlin:20230423T140000
DTSTAMP:20260425T042818
CREATED:20230205T144332Z
LAST-MODIFIED:20230419T220154Z
UID:790-1682246700-1682258400@ascoli-piceno-trier.de
SUMMARY:Wandern wo die Römer gingen ("Sui passi dei romani") - Villa Bollendorf
DESCRIPTION:In der Hoffnung auf sonniges und wärmeres Wetter möchten wir Sie gerne auf die nächste Wanderung einstimmen. Bevor wir losmarschieren\, geht es noch zur römischen Villa oberhalb der Burg Bollendorf. \nBollendorf und Umgebung ist reich an steinzeitlichen Funden und war bereits in der jüngeren Bronzezeit stärker besiedelt. Dicht besiedelt war das Gebiet dann vor allem auch in der Römerzeit\, wovon zahlreiche Reste von Gebäuden\, Weihereliefs und Gräbern zeugen. \nDie römische Villa\, auch „villa rustica“ genannt\, am Osthang des Sauertals wurde vom 2. bis Ende des 4. Jahrhunderts bewohnt. Sie stellt mit ihrer Größe von 26 m Breite und 23 m Tiefe ein typisches Beispiel für ein kleineres Bauernhaus dar. römische Villa oberhalb der Burg Bollendorf. \n1997 wurde durch die Initiative des Eifelvereins Bollendorf ein moderner Schutzbau über der Villa errichtet. \nUnsere diesmal kürzere Wanderung geht vom Parkplatz beim Waldhotel Sonneberg aus. Diese nur 6 km lange Rundwanderung auf dem Ferschweiler Plateau ist überaus beeindruckend. Unzählige bizarre Sandsteinformationen\, enge klammartige Schluchten und mehrere herrliche Aussichtsfelsen\, die man zum Teil besteigen kann\, werden auf mystischen Felsensteigen und erdigen Wurzelpfaden erkundet. \nDie Einkehr nach der Wanderung findet im Restaurant des Waldhotel Sonnenberg statt. \nWir freuen uns auf eine kurzweiligen Nachmittag \nAnreise: mit dem Pkw (evtl. Mitfahrgelegenheit bitte selbst organisieren!). Von Trier kommend braucht man ca. 35 Minuten \nTreffpunkt: 10:45 Uhr: Parkplatz an der Villa Bollendorf \nBesichtigung: ca.11:00 Uhr: \nWanderung: ab ca. 11:30 Uhr: ca. 7 km\, ca. 1\,5 Std. Gehzeit \nEinkehr: ca.14:00 Uhr: Waldhotel Sonnenberg\, Sonnenbergallee 1\, 54669 Bollendorf \nBitte bestätigen Sie Ihre Teilnahme bis zum Donnerstag\, 20. April per Email und der Teilnehmerzahl\, damit wir die Plätze im Restaurant reservieren können. Vielen Dank. \nEs gilt die „APTG Regel“: Sehr gerne können auch Gäste und Ihre Freunde an der Wanderung teilnehmen! \nWir freuen uns auf die gesellige Runde\, auch wenn es regnen sollte!
URL:https://ascoli-piceno-trier.de/events/wandern-wo-die-roemer-gingen-2
LOCATION:Villa Rustica Bollendorf\, Römischen Villa\, Bollendorf\, 54669\, Germany
CATEGORIES:Offene Veranstaltung
ATTACH;FMTTYPE=image/jpeg:https://ascoli-piceno-trier.de/wp-content/uploads/2023/02/Bollendorf_Hypokaustum.jpg
ORGANIZER;CN="Ascoli Piceno Trier Gesellschaft e.V.":MAILTO:info@ascoli-piceno-trier.de
END:VEVENT
END:VCALENDAR