BEGIN:VCALENDAR
VERSION:2.0
PRODID:-//ASCOLI PICENO - TRIER GESELLSCHAFT e.V. - ECPv6.15.20//NONSGML v1.0//EN
CALSCALE:GREGORIAN
METHOD:PUBLISH
X-ORIGINAL-URL:https://ascoli-piceno-trier.de
X-WR-CALDESC:Veranstaltungen für ASCOLI PICENO - TRIER GESELLSCHAFT e.V.
REFRESH-INTERVAL;VALUE=DURATION:PT1H
X-Robots-Tag:noindex
X-PUBLISHED-TTL:PT1H
BEGIN:VTIMEZONE
TZID:Europe/Berlin
BEGIN:DAYLIGHT
TZOFFSETFROM:+0100
TZOFFSETTO:+0200
TZNAME:CEST
DTSTART:20220327T010000
END:DAYLIGHT
BEGIN:STANDARD
TZOFFSETFROM:+0200
TZOFFSETTO:+0100
TZNAME:CET
DTSTART:20221030T010000
END:STANDARD
BEGIN:DAYLIGHT
TZOFFSETFROM:+0100
TZOFFSETTO:+0200
TZNAME:CEST
DTSTART:20230326T010000
END:DAYLIGHT
BEGIN:STANDARD
TZOFFSETFROM:+0200
TZOFFSETTO:+0100
TZNAME:CET
DTSTART:20231029T010000
END:STANDARD
BEGIN:DAYLIGHT
TZOFFSETFROM:+0100
TZOFFSETTO:+0200
TZNAME:CEST
DTSTART:20240331T010000
END:DAYLIGHT
BEGIN:STANDARD
TZOFFSETFROM:+0200
TZOFFSETTO:+0100
TZNAME:CET
DTSTART:20241027T010000
END:STANDARD
END:VTIMEZONE
BEGIN:VEVENT
DTSTART;TZID=Europe/Berlin:20231214T200000
DTEND;TZID=Europe/Berlin:20231214T213000
DTSTAMP:20260420T232118
CREATED:20230902T101228Z
LAST-MODIFIED:20231109T081944Z
UID:1524-1702584000-1702589400@ascoli-piceno-trier.de
SUMMARY:Mit geballter Faust
DESCRIPTION:Nicoletta Giampietro liest aus ihrem Roman „Mit geballter Faust“ aus dem radikalsten Jahrzehnt der italienischen Nachkriegszeit. \nMailand in den Siebzigern. Die Politik hat in den Schulen Einzug gehalten\, für Giulia öffnet sich am Liceo eine aufregende Welt: Mit ihren Freunden Carmela und Michele geht auch sie auf die Plätze der Stadt\, wo Tausende junge Mailänder*innen für eine bessere Zukunft kämpfen. Ihrer großen Schwester Gabriella ist klar: Italien muss kommunistisch werden. Als die linksextreme Gewalt am Liceo zunimmt und Michele bedroht wird\, beginnt Giulia\, an der Ideologie ihrer Schwester zu zweifeln.  \nVoller Zeitkolorit und in atmosphärischer Dichte erzählt Nicoletta Giampietro von Freundschaft und Schwesternliebe\, von jugendlicher Hoffnung und dem Wunsch\, auch in extremen Zeiten das Richtige zu tun.\n \nKurs Nr. 232-20213
URL:https://ascoli-piceno-trier.de/events/mit-geballter-faust
LOCATION:VHS Trier – Online\, Domfreihof 1B\, Trier\, 54290\, Germany
CATEGORIES:Öffentliche Veranstaltung - Teilnahme als Gruppe
ATTACH;FMTTYPE=image/jpeg:https://ascoli-piceno-trier.de/wp-content/uploads/2023/09/Nicoletta-Giampietro-online.jpg
END:VEVENT
END:VCALENDAR