BEGIN:VCALENDAR
VERSION:2.0
PRODID:-//ASCOLI PICENO - TRIER GESELLSCHAFT e.V. - ECPv6.15.20//NONSGML v1.0//EN
CALSCALE:GREGORIAN
METHOD:PUBLISH
X-ORIGINAL-URL:https://ascoli-piceno-trier.de
X-WR-CALDESC:Veranstaltungen für ASCOLI PICENO - TRIER GESELLSCHAFT e.V.
REFRESH-INTERVAL;VALUE=DURATION:PT1H
X-Robots-Tag:noindex
X-PUBLISHED-TTL:PT1H
BEGIN:VTIMEZONE
TZID:Europe/Berlin
BEGIN:DAYLIGHT
TZOFFSETFROM:+0100
TZOFFSETTO:+0200
TZNAME:CEST
DTSTART:20220327T010000
END:DAYLIGHT
BEGIN:STANDARD
TZOFFSETFROM:+0200
TZOFFSETTO:+0100
TZNAME:CET
DTSTART:20221030T010000
END:STANDARD
BEGIN:DAYLIGHT
TZOFFSETFROM:+0100
TZOFFSETTO:+0200
TZNAME:CEST
DTSTART:20230326T010000
END:DAYLIGHT
BEGIN:STANDARD
TZOFFSETFROM:+0200
TZOFFSETTO:+0100
TZNAME:CET
DTSTART:20231029T010000
END:STANDARD
BEGIN:DAYLIGHT
TZOFFSETFROM:+0100
TZOFFSETTO:+0200
TZNAME:CEST
DTSTART:20240331T010000
END:DAYLIGHT
BEGIN:STANDARD
TZOFFSETFROM:+0200
TZOFFSETTO:+0100
TZNAME:CET
DTSTART:20241027T010000
END:STANDARD
END:VTIMEZONE
BEGIN:VEVENT
DTSTART;TZID=Europe/Berlin:20231123T190000
DTEND;TZID=Europe/Berlin:20231123T210000
DTSTAMP:20260421T004616
CREATED:20230530T073012Z
LAST-MODIFIED:20231109T082010Z
UID:1298-1700766000-1700773200@ascoli-piceno-trier.de
SUMMARY:Vertraute Fremde\, Reisenotizen aus Südamerika
DESCRIPTION:Unser APTG Mitglied Herr Schäfer war letztes Jahr lange Zeit in Südamerika unterwegs und hat seine Reisenotizen zu einem Vortrag zusammengefasst.  \nDer Abend mit vielen Bildern und Erzählungen findet als Veranstaltung der VHS am 23. November um 19:00 Uhr statt.  \nBitte melden Sie sich zahlreich an\, hier der link: Trier VHS: Vertraute Fremde. Reisenotizen aus Südamerika (vhs-trier.de)  \nDer Vortrag vermittelt Eindrücke von einer Reise durch verschiedene südamerikanische Länder\, an bekannte und weniger bekannte Orte. Dabei kommen die Natur\, die Verständigung\, die Gastronomie und nicht zuletzt die persönlichen Begegnungen zur Sprache.
URL:https://ascoli-piceno-trier.de/events/vertraute-fremde-reisenotizen-aus-suedamerika
LOCATION:VHS Trier\, Domfreihof 1B\, Trier\, 54290\, Germany
CATEGORIES:Öffentliche Veranstaltung - Teilnahme als Gruppe
ATTACH;FMTTYPE=image/jpeg:https://ascoli-piceno-trier.de/wp-content/uploads/2023/05/E-XX-20230114_101851-scaled.jpg
END:VEVENT
BEGIN:VEVENT
DTSTART;TZID=Europe/Berlin:20231123T193000
DTEND;TZID=Europe/Berlin:20231123T210000
DTSTAMP:20260421T004616
CREATED:20230902T100748Z
LAST-MODIFIED:20231109T082002Z
UID:1519-1700767800-1700773200@ascoli-piceno-trier.de
SUMMARY:Wo die Zitronen blühn. Kulturgeschichte der italienischen Küche
DESCRIPTION:Italy goes global. Pizza und Pasta\, Espresso und Gelato und nicht zu vergessen Salat sind zu Lieblingsspeisen der Menschheit arriviert. Worauf beruht dieser Erfolg? \nFaktoren wie mediterrane Diät und schnelle Nachkochbarkeit\, Auswanderung und der regionale Elan der Slow Food-Ideen sorgen dafür\, dass ein 2500 Jahre altes kulinarisches Erbe aktueller denn je interpretiert wird.  \nEin spannender Gang durch die Epochen der Cucina Italiana mit dem Gastrosophen Dr. Peter Peter (www.pietropietro.de). Er lehrt am Zentrum für Gastrosophie der Universität Salzburg. Er entwirft kulinarische Reisen und verfasst die Kolumne Peters Lebensart für das Rotary Magazin. \nVHS Kurs Nr. 232-12020
URL:https://ascoli-piceno-trier.de/events/wo-die-zitronen-bluehn-kulturgeschichte-der-italienischen-kueche
LOCATION:VHS Trier – Online\, Domfreihof 1B\, Trier\, 54290\, Germany
CATEGORIES:Öffentliche Veranstaltung - Teilnahme als Gruppe
ATTACH;FMTTYPE=image/png:https://ascoli-piceno-trier.de/wp-content/uploads/2023/09/pietropietro.png
END:VEVENT
END:VCALENDAR