BEGIN:VCALENDAR
VERSION:2.0
PRODID:-//ASCOLI PICENO - TRIER GESELLSCHAFT e.V. - ECPv6.15.20//NONSGML v1.0//EN
CALSCALE:GREGORIAN
METHOD:PUBLISH
X-ORIGINAL-URL:https://ascoli-piceno-trier.de
X-WR-CALDESC:Veranstaltungen für ASCOLI PICENO - TRIER GESELLSCHAFT e.V.
REFRESH-INTERVAL;VALUE=DURATION:PT1H
X-Robots-Tag:noindex
X-PUBLISHED-TTL:PT1H
BEGIN:VTIMEZONE
TZID:Europe/Berlin
BEGIN:DAYLIGHT
TZOFFSETFROM:+0100
TZOFFSETTO:+0200
TZNAME:CEST
DTSTART:20220327T010000
END:DAYLIGHT
BEGIN:STANDARD
TZOFFSETFROM:+0200
TZOFFSETTO:+0100
TZNAME:CET
DTSTART:20221030T010000
END:STANDARD
BEGIN:DAYLIGHT
TZOFFSETFROM:+0100
TZOFFSETTO:+0200
TZNAME:CEST
DTSTART:20230326T010000
END:DAYLIGHT
BEGIN:STANDARD
TZOFFSETFROM:+0200
TZOFFSETTO:+0100
TZNAME:CET
DTSTART:20231029T010000
END:STANDARD
BEGIN:DAYLIGHT
TZOFFSETFROM:+0100
TZOFFSETTO:+0200
TZNAME:CEST
DTSTART:20240331T010000
END:DAYLIGHT
BEGIN:STANDARD
TZOFFSETFROM:+0200
TZOFFSETTO:+0100
TZNAME:CET
DTSTART:20241027T010000
END:STANDARD
END:VTIMEZONE
BEGIN:VEVENT
DTSTART;TZID=Europe/Berlin:20230909T180000
DTEND;TZID=Europe/Berlin:20230910T000000
DTSTAMP:20260421T041656
CREATED:20230830T212905Z
LAST-MODIFIED:20230830T212905Z
UID:1509-1694282400-1694304000@ascoli-piceno-trier.de
SUMMARY:Die Trierer Museumsnacht
DESCRIPTION:Seit 2007 findet jährlich im September die Trierer Museumsnacht statt. In dieser Nacht laden die fünf Museen von 18–24 Uhr zu einer Entdeckungsreise ein: \nhttp://www.museumsstadt-trier.de/downloads/MT_Leporello_Museumsnacht_2023_Web.pdf \nErleben Sie die Trierer Museumsstadt in vielfältigen Führungen\, Kinderaktionen\, mit Livemusik und kulinarisch – ein abwechslungsreiches Programm für die ganze Familie wartet auf Sie! \n \nWeitere Informationen unter www.museumsstadt-trier.de
URL:https://ascoli-piceno-trier.de/events/die-trierer-museumsnacht
LOCATION:Museen Stadt Trier
CATEGORIES:Öffentliche Veranstaltung - Teilnahme als Gruppe
ATTACH;FMTTYPE=image/jpeg:https://ascoli-piceno-trier.de/wp-content/uploads/2023/08/MT_Leporello_Header.jpg
END:VEVENT
END:VCALENDAR