BEGIN:VCALENDAR
VERSION:2.0
PRODID:-//ASCOLI PICENO - TRIER GESELLSCHAFT e.V. - ECPv6.15.20//NONSGML v1.0//EN
CALSCALE:GREGORIAN
METHOD:PUBLISH
X-ORIGINAL-URL:https://ascoli-piceno-trier.de
X-WR-CALDESC:Veranstaltungen für ASCOLI PICENO - TRIER GESELLSCHAFT e.V.
REFRESH-INTERVAL;VALUE=DURATION:PT1H
X-Robots-Tag:noindex
X-PUBLISHED-TTL:PT1H
BEGIN:VTIMEZONE
TZID:Europe/Berlin
BEGIN:DAYLIGHT
TZOFFSETFROM:+0100
TZOFFSETTO:+0200
TZNAME:CEST
DTSTART:20220327T010000
END:DAYLIGHT
BEGIN:STANDARD
TZOFFSETFROM:+0200
TZOFFSETTO:+0100
TZNAME:CET
DTSTART:20221030T010000
END:STANDARD
BEGIN:DAYLIGHT
TZOFFSETFROM:+0100
TZOFFSETTO:+0200
TZNAME:CEST
DTSTART:20230326T010000
END:DAYLIGHT
BEGIN:STANDARD
TZOFFSETFROM:+0200
TZOFFSETTO:+0100
TZNAME:CET
DTSTART:20231029T010000
END:STANDARD
BEGIN:DAYLIGHT
TZOFFSETFROM:+0100
TZOFFSETTO:+0200
TZNAME:CEST
DTSTART:20240331T010000
END:DAYLIGHT
BEGIN:STANDARD
TZOFFSETFROM:+0200
TZOFFSETTO:+0100
TZNAME:CET
DTSTART:20241027T010000
END:STANDARD
END:VTIMEZONE
BEGIN:VEVENT
DTSTART;TZID=Europe/Berlin:20230530T193000
DTEND;TZID=Europe/Berlin:20230530T210000
DTSTAMP:20260423T104854
CREATED:20230428T211916Z
LAST-MODIFIED:20230429T170300Z
UID:1143-1685475000-1685480400@ascoli-piceno-trier.de
SUMMARY:Ein Jahr Italienische Regierung. Eine Bilanz
DESCRIPTION:Seit Oktober 2022 führt Georgia Meloni die italienische Regierung an.  \nWas hat die Regierung Meloni bislang innen- und außenpolitisch erreicht?\nWie hat sie sich zu Europa und zu Fragen der Migration positioniert? \nKönnen Georgia Meloni und ihre Partei „Fratelli d`Italia“ zurecht post-faschistisch genannt werden\, wie dies in deutschsprachigen Medien häufig geschieht\, und wie beurteilen die Italiener sie.  \nÜber diese Fragen diskutieren Dr. Christiane Liermann Traniello und Herbert Dorfmann. \nHerbert Dorfmann ist ein italienischer Agronom und Mitglied des Europäischen Parlaments für die Südtiroler Volkspartei (SVP).\nChristiane Liermann leitet das Deutsch-Italienische Zentrum für den Europäischen Dialog\, das seinen Sitz in der Villa Vigoni in Loveno di Menaggio hat. \n  \nDie kostenfreie Veranstaltung findet online statt und kann auch nur online (über zoom) gehört werden.\nNach der Anmeldung erhält man kurz vor dem Termin die Zugangsdaten. Kosten entstehen keine. \nAnmeldung über die VHS Homepage: https://vhs-trier.de/programm/gesellschaft/kurs/Ein-Jahr-Italienische-Regierung-Eine-Bilanz/231-12020#inhalt
URL:https://ascoli-piceno-trier.de/events/ein-jahr-italienische-regierung-eine-bilanz
LOCATION:VHS Trier\, Domfreihof 1B\, Trier\, 54290\, Germany
CATEGORIES:Öffentliche Veranstaltung - Teilnahme als Gruppe
ATTACH;FMTTYPE=image/jpeg:https://ascoli-piceno-trier.de/wp-content/uploads/2023/04/Pres_Meloni_bio_0.jpg
END:VEVENT
END:VCALENDAR