BEGIN:VCALENDAR
VERSION:2.0
PRODID:-//ASCOLI PICENO - TRIER GESELLSCHAFT e.V. - ECPv6.15.20//NONSGML v1.0//EN
CALSCALE:GREGORIAN
METHOD:PUBLISH
X-ORIGINAL-URL:https://ascoli-piceno-trier.de
X-WR-CALDESC:Veranstaltungen für ASCOLI PICENO - TRIER GESELLSCHAFT e.V.
REFRESH-INTERVAL;VALUE=DURATION:PT1H
X-Robots-Tag:noindex
X-PUBLISHED-TTL:PT1H
BEGIN:VTIMEZONE
TZID:Europe/Berlin
BEGIN:DAYLIGHT
TZOFFSETFROM:+0100
TZOFFSETTO:+0200
TZNAME:CEST
DTSTART:20220327T010000
END:DAYLIGHT
BEGIN:STANDARD
TZOFFSETFROM:+0200
TZOFFSETTO:+0100
TZNAME:CET
DTSTART:20221030T010000
END:STANDARD
BEGIN:DAYLIGHT
TZOFFSETFROM:+0100
TZOFFSETTO:+0200
TZNAME:CEST
DTSTART:20230326T010000
END:DAYLIGHT
BEGIN:STANDARD
TZOFFSETFROM:+0200
TZOFFSETTO:+0100
TZNAME:CET
DTSTART:20231029T010000
END:STANDARD
BEGIN:DAYLIGHT
TZOFFSETFROM:+0100
TZOFFSETTO:+0200
TZNAME:CEST
DTSTART:20240331T010000
END:DAYLIGHT
BEGIN:STANDARD
TZOFFSETFROM:+0200
TZOFFSETTO:+0100
TZNAME:CET
DTSTART:20241027T010000
END:STANDARD
END:VTIMEZONE
BEGIN:VEVENT
DTSTART;TZID=Europe/Berlin:20231015T110000
DTEND;TZID=Europe/Berlin:20231015T153000
DTSTAMP:20260423T120244
CREATED:20230205T144542Z
LAST-MODIFIED:20231006T104042Z
UID:794-1697367600-1697383800@ascoli-piceno-trier.de
SUMMARY:Wandern wo die Römer gingen ("Sui passi dei romani") - Villa Urbana Longuich
DESCRIPTION:Die Villa Urbana in Longuich ist eine römische Villa\, die an der Stelle einer älteren Villa rustica errichtet worden war. Teile der Villa wurden in Longuich/Mosel an der „Römischen Weinstraße“ ausgegraben und rekonstruiert. \nAnreise: mit dem Pkw (evtl. Mitfahrgelegenheit bitte selbst organisieren!). Von Trier kommend braucht man bis Longuich ca. 20. Minuten \nTreffpunkt:    11:00 Uhr: Parkplatz vor der Villa Urbana Longuich. Adresse: Maximinstr. 54340 Longuich  \nFührung:       11:15 Uhr: mit Frau Backhaus (Dauer ca.40 Min.) Kosten: (40\,00 €) = ca. 3\,00 €  p.P. (ab 15 Pers.) \nWanderung:  12:00 Uhr Von der Villa Urbana über die Thalmühle entlang des Longuicher Baches durch Streuobstwiesen\, Weinberge und Wälder\, vorbei an der Deponie Mertesdorf bis zum Longuicher Sauerbrunnen und zurück – 8 km\, ca.1\,5 Std. Gehzeit \nEinkehr:  ab ca. 14:00 Uhr im Restaurant Wein im Turm\, der Taverne der Villa Borg\, \nZur Speisekarte geht’s hier lang (einfach auf den link klicken): Speisekarte – Wein im Turm – Weingut JS Schmitt (weingut-js.de)
URL:https://ascoli-piceno-trier.de/events/wandern-wo-die-roemer-gingen-4
LOCATION:Villa Urbana – Longuich\, Trierer Straße\, Longuich\, 54340\, Germany
CATEGORIES:Offene Veranstaltung
ATTACH;FMTTYPE=image/jpeg:https://ascoli-piceno-trier.de/wp-content/uploads/2023/02/Villa_Urbana_in_Longuich-scaled-e1682370211274.jpeg
ORGANIZER;CN="Ascoli Piceno Trier Gesellschaft e.V.":MAILTO:info@ascoli-piceno-trier.de
END:VEVENT
END:VCALENDAR